BEGIN:VCALENDAR
VERSION:2.0
PRODID:spatie/icalendar-generator
DESCRIPTION:Events from Abundance Books
X-WR-CALDESC:Events from Abundance Books
REFRESH-INTERVAL;VALUE=DURATION:PT1440M
X-PUBLISHED-TTL:PT1440M
BEGIN:VTIMEZONE
TZID:America/Detroit
BEGIN:STANDARD
DTSTART:20251102T020000Z
TZOFFSETFROM:-0400
TZOFFSETTO:-0500
END:STANDARD
BEGIN:DAYLIGHT
DTSTART:20260308T020000Z
TZOFFSETFROM:-0500
TZOFFSETTO:-0400
END:DAYLIGHT
BEGIN:STANDARD
DTSTART:20261101T020000Z
TZOFFSETFROM:-0400
TZOFFSETTO:-0500
END:STANDARD
END:VTIMEZONE
BEGIN:VTIMEZONE
TZID:UTC
BEGIN:STANDARD
DTSTART:20250727T233749Z
TZOFFSETFROM:+0000
TZOFFSETTO:+0000
END:STANDARD
END:VTIMEZONE
BEGIN:VEVENT
UID:6-2
DTSTAMP:20260423T233749Z
SUMMARY:AB Mindset Meeting
LOCATION:
ORGANIZER;CN=abundancebooks:MAILTO:teresa.janzen@gmail.com
RRULE:FREQ=MONTHLY;BYDAY=3MO;UNTIL=20271231T000000Z
DTSTART;TZID=America/Detroit:20260720T190000
DTEND;TZID=America/Detroit:20260720T203000
X-ALT-DESC;FMTTYPE=TEXT/HTML:<p>The Monthly Mindset Group is a supportive
  and encouraging space designed to help authors\, speakers\, and creatives
  stay focused\, motivated\, and aligned with their God-given calling. Each
  month\, we come together to check in\, reflect\, and grow personally and 
 professionally.</p>\n
CATEGORIES:General,  Member Only Event
URL;VALUE=URI:https://abundance-books.com/mc-events/ab-mindset-meeting/?mc_
 id=6
METHOD:PUBLISH
END:VEVENT
END:VCALENDAR